BEGIN:VCALENDAR
VERSION:2.0
PRODID:-//eventon.com NONSGML v1.0//EN
CALSCALE:GREGORIAN
METHOD:PUBLISH
BEGIN:VEVENT
UID:69e5994c981f9
DTSTAMP:20260420T031108Z
DTSTART:20240509T220000Z
DTEND:20240510T035900Z
LOCATION:
SUMMARY:BOCAGE CHAMPAGNE BAR WINE DINNER
DESCRIPTION:Welcome to the Saratoga Arms and Bocage Champagne Bar collabora
 tion wine dinner! Join us on Thursday\,  May 9\,  2024 at 6:00pm at the
  beautiful Saratoga Arms Hotel on Broadway. Get ready for a night of luxury
  and indulgence as we bring together the finest champagne from Bocage and t
 he elegant ambiance and exceptional cuisine[..]\nhttps://www.saratogaarms.c
 om/blog/events/bocage-champagne-bar-wine-dinner/
URL:https://www.saratogaarms.com/blog/events/bocage-champagne-bar-wine-dinner/
END:VEVENT
END:VCALENDAR